BEGIN:VCALENDAR
VERSION:2.0
PRODID:icalendar-ruby
CALSCALE:GREGORIAN
METHOD:PUBLISH
BEGIN:VEVENT
DTSTAMP:20260423T204727Z
UID:357-1208094@fbcmanchester.com
DTSTART:20260514T003000Z
DTEND:20260514T040000Z
CLASS:PUBLIC
CREATED:20260421T142018
DESCRIPTION:Join your FBC Manchester family for a fun-filled night at the b
 allpark! After such a great time last year\, we’re excited to head back
  to the Columbus Clingstones game together. We’ll be seated along the th
 ird base line\, enjoying great food\, meaningful fellowship\, and America
 ’s favorite pastime.\nTickets are $30 so be sure to sign up at one of th
 e chapel exits as soon as possible to reserve your place. Don’t miss thi
 s great night together!
LAST-MODIFIED:20260421T142018
LOCATION:
SUMMARY:Columbus Clingstones Game
URL;VALUE=URI:https://www.fbcmanchester.com/events/columbus-clingstones-gam
 e/2026-05-13
ATTACH;FILENAME=Your-paragraph-text-2.PNG;FMTTYPE=image/png:https://dq5pwpg
 1q8ru0.cloudfront.net/2026/04/21/21/20/18/ee23bc87-7804-4755-9214-1e6406bb
 81e7/Your-paragraph-text-2.PNG
END:VEVENT
END:VCALENDAR
